BEGIN:VCALENDAR
VERSION:2.0
PRODID:icalendar-ruby
CALSCALE:GREGORIAN
METHOD:PUBLISH
BEGIN:VEVENT
DTSTAMP:20260423T174147Z
UID:7-2066367@mabelvalecofc.org
DTSTART:20260927T153000Z
DTEND:20260927T163000Z
CLASS:PUBLIC
CREATED:20260423T121139
DESCRIPTION:
LAST-MODIFIED:20260423T121139
LOCATION:The Gathering Place
SUMMARY:Worship
URL;VALUE=URI:https://www.mabelvalecofc.org/events/worship/2026-09-27
ATTACH;FILENAME=9FHx.jpg;FMTTYPE=image/jpeg:https://dq5pwpg1q8ru0.cloudfron
 t.net/2021/10/01/14/55/23/f8e1e84d-e7c0-4710-813b-0440811a4766/9FHx.jpg
END:VEVENT
END:VCALENDAR
