BEGIN:VCALENDAR
VERSION:2.0
PRODID:icalendar-ruby
CALSCALE:GREGORIAN
METHOD:PUBLISH
BEGIN:VEVENT
DTSTAMP:20260423T085634Z
UID:14-2063154@mabelvalecofc.org
DTSTART:20261004T220000Z
DTEND:20261004T221000Z
CLASS:PUBLIC
CREATED:20260422T205338
DESCRIPTION:
LAST-MODIFIED:20260422T205338
LOCATION:The Gathering Place
SUMMARY:Kidsing
URL;VALUE=URI:https://www.mabelvalecofc.org/events/kidsing/2026-10-04
ATTACH;FILENAME=IMG_5169.jpg;FMTTYPE=image/jpeg:https://dq5pwpg1q8ru0.cloud
 front.net/2021/10/12/06/34/44/6ee34f37-6d1c-4488-941f-97c0f9e3163f/IMG_516
 9.jpg
END:VEVENT
END:VCALENDAR
