BEGIN:VCALENDAR
VERSION:2.0
PRODID:icalendar-ruby
CALSCALE:GREGORIAN
METHOD:PUBLISH
BEGIN:VEVENT
DTSTAMP:20260423T224726Z
UID:14-2068032@mabelvalecofc.org
DTSTART:20240922T220000Z
DTEND:20240922T221000Z
CLASS:PUBLIC
CREATED:20260423T150811
DESCRIPTION:
LAST-MODIFIED:20260423T150811
LOCATION:The Gathering Place
SUMMARY:Kidsing
URL;VALUE=URI:https://www.mabelvalecofc.org/events/kidsing/2024-09-22
ATTACH;FILENAME=IMG_5169.jpg;FMTTYPE=image/jpeg:https://dq5pwpg1q8ru0.cloud
 front.net/2021/10/12/06/34/44/6ee34f37-6d1c-4488-941f-97c0f9e3163f/IMG_516
 9.jpg
END:VEVENT
END:VCALENDAR
